BEGIN:VCALENDAR
VERSION:2.0
PRODID:-//Southwest Reined Cow Horse Association - ECPv6.15.20//NONSGML v1.0//EN
CALSCALE:GREGORIAN
METHOD:PUBLISH
X-ORIGINAL-URL:https://srcha.org
X-WR-CALDESC:Events for Southwest Reined Cow Horse Association
REFRESH-INTERVAL;VALUE=DURATION:PT1H
X-Robots-Tag:noindex
X-PUBLISHED-TTL:PT1H
BEGIN:VTIMEZONE
TZID:America/Chicago
BEGIN:DAYLIGHT
TZOFFSETFROM:-0600
TZOFFSETTO:-0500
TZNAME:CDT
DTSTART:20210314T080000
END:DAYLIGHT
BEGIN:STANDARD
TZOFFSETFROM:-0500
TZOFFSETTO:-0600
TZNAME:CST
DTSTART:20211107T070000
END:STANDARD
BEGIN:DAYLIGHT
TZOFFSETFROM:-0600
TZOFFSETTO:-0500
TZNAME:CDT
DTSTART:20220313T080000
END:DAYLIGHT
BEGIN:STANDARD
TZOFFSETFROM:-0500
TZOFFSETTO:-0600
TZNAME:CST
DTSTART:20221106T070000
END:STANDARD
BEGIN:DAYLIGHT
TZOFFSETFROM:-0600
TZOFFSETTO:-0500
TZNAME:CDT
DTSTART:20230312T080000
END:DAYLIGHT
BEGIN:STANDARD
TZOFFSETFROM:-0500
TZOFFSETTO:-0600
TZNAME:CST
DTSTART:20231105T070000
END:STANDARD
END:VTIMEZONE
BEGIN:VEVENT
DTSTART;VALUE=DATE:20220723
DTEND;VALUE=DATE:20220725
DTSTAMP:20260420T211254
CREATED:20220115T050041Z
LAST-MODIFIED:20220209T151616Z
UID:4986-1658534400-1658707199@srcha.org
SUMMARY:2022 Free Youth Clinic
DESCRIPTION:Free Youth Clinic \nJuly 23/24\, 2022\nJL Arena\, 10801 E Highway 82\, Whitesboro\, TX \n  \nForms and more information as we get closer. \nContact Gay Lenz for more information \n405-818-7556 \n  \n  \n  \n  \n 
URL:https://srcha.org/event/2022-free-youth-clinic/
LOCATION:TX
CATEGORIES:Shows
ORGANIZER;CN="Gay Lenz":MAILTO:glenz@lenzenterprises.com
END:VEVENT
END:VCALENDAR