BEGIN:VCALENDAR
VERSION:2.0
PRODID:-//Southwest Reined Cow Horse Association - ECPv6.15.20//NONSGML v1.0//EN
CALSCALE:GREGORIAN
METHOD:PUBLISH
X-WR-CALNAME:Southwest Reined Cow Horse Association
X-ORIGINAL-URL:https://srcha.org
X-WR-CALDESC:Events for Southwest Reined Cow Horse Association
REFRESH-INTERVAL;VALUE=DURATION:PT1H
X-Robots-Tag:noindex
X-PUBLISHED-TTL:PT1H
BEGIN:VTIMEZONE
TZID:America/Chicago
BEGIN:DAYLIGHT
TZOFFSETFROM:-0600
TZOFFSETTO:-0500
TZNAME:CDT
DTSTART:20230312T080000
END:DAYLIGHT
BEGIN:STANDARD
TZOFFSETFROM:-0500
TZOFFSETTO:-0600
TZNAME:CST
DTSTART:20231105T070000
END:STANDARD
BEGIN:DAYLIGHT
TZOFFSETFROM:-0600
TZOFFSETTO:-0500
TZNAME:CDT
DTSTART:20240310T080000
END:DAYLIGHT
BEGIN:STANDARD
TZOFFSETFROM:-0500
TZOFFSETTO:-0600
TZNAME:CST
DTSTART:20241103T070000
END:STANDARD
BEGIN:DAYLIGHT
TZOFFSETFROM:-0600
TZOFFSETTO:-0500
TZNAME:CDT
DTSTART:20250309T080000
END:DAYLIGHT
BEGIN:STANDARD
TZOFFSETFROM:-0500
TZOFFSETTO:-0600
TZNAME:CST
DTSTART:20251102T070000
END:STANDARD
END:VTIMEZONE
BEGIN:VEVENT
DTSTART;VALUE=DATE:20240107
DTEND;VALUE=DATE:20240110
DTSTAMP:20260420T052456
CREATED:20231011T123813Z
LAST-MODIFIED:20240106T145449Z
UID:11097-1704585600-1704844799@srcha.org
SUMMARY:SRCHA Practice
DESCRIPTION:SRCHA Practice \nDRAWS – Remember\, times are estimates.  If there is a conflict plan on doing your herd work as priority.\nWe will be as flexible as possible to get your works in. If we have missed anything we can correct at the event.  No Worries.\nArena 2 will have a monitor\, Arena 3 will not\, so those going in arena 3 will need to be aware of the four minute time limit and be courteous of other participants.  Lunch will be provided Sunday and Monday\, but NOT Tuesday and there will be no concession\, so plan accordingly.  Thank you and see you soon. \nFence Draw Monday\nFence Draw Sunday\nFence Draw Tuesday\nHerd Draw Monday\nHerd Draw Sunday\nRein Draw Monday\nRein Draw Sunday\nRein Draw Tuesday \nJanuary 7\,8\,9 – 2024\nHardy Murphy Coliseum (See entry form following practice information) \nJanuary Practice \nJanuary 7\,8\,9\, 2024\nHardy Murphy Coliseum\, Ardmore \nDeadline to reserve Herd Practice January 3rd.  \nSunday         Check-in Sunday 7:00 am \nColiseum 9:00 am Settle – Herd work in the Coliseum \nArena 2 – 9:00 am Reining Practice (See sign up list) \nArena 2 – 1:00 pm Fence Practice (See sign list) \nArena 3 – 1:00 pm Reining Practice (See sign up list) \nMonday       Coliseum 8:30 am Settle – Herd work in the Coliseum \nArena 2 – 9:00 am Fence Practice (See sign up list) \nArena 3 – 8:30 am Reining Practice (See sign up list) \nArena 3 – Steer Breakaway – Appx 5:30 pm. There will be no draw just be ready to rope. \nTuesday       Arena 2 – 8:00 am Fence Practice (See sign up list) \nArena 3 – 8:30 am Reining Practice (See sign up list) \nLunch will be provided Sunday & Monday.  There will not be a concession\, so plan accordingly. \nStalls are $85.00 for the 3 days.  Check In is on Sunday morning 7:00 am. \nIMPORTANT INFORMATION ABOUT PRACTICE \nFor changes or corrections please email entry@srcha.org. You will be responsible for payment of herd work practices if you do not cancel via email by January 3rd.  BE AWARE Times are estimates   – Things could go faster than it looks so your runs may be earlier than specified.  So\, get there early.  If those other slots do not fill\, then we will move right on to next runs. There will not be a monitor at all arenas\, so PLEASE be respectful of your time in the arena.  We will be as flexible as possible on the sign up\, so you can make sure to get all your runs in without conflict. IF we do not get enough steer runs signed up we will cancel the steer stopping. \nYou will need to renew your SRCHA Membership to attend this event.  Forms are available online or you can do it at the event.  \nPractice Entry Form\n2024 January Practice Information
URL:https://srcha.org/event/srcha-practice-2/
LOCATION:Ardmore\, OK\, United States
END:VEVENT
END:VCALENDAR