BEGIN:VCALENDAR
VERSION:2.0
PRODID:-//Southwest Reined Cow Horse Association - ECPv6.15.20//NONSGML v1.0//EN
CALSCALE:GREGORIAN
METHOD:PUBLISH
X-WR-CALNAME:Southwest Reined Cow Horse Association
X-ORIGINAL-URL:https://srcha.org
X-WR-CALDESC:Events for Southwest Reined Cow Horse Association
REFRESH-INTERVAL;VALUE=DURATION:PT1H
X-Robots-Tag:noindex
X-PUBLISHED-TTL:PT1H
BEGIN:VTIMEZONE
TZID:America/Chicago
BEGIN:DAYLIGHT
TZOFFSETFROM:-0600
TZOFFSETTO:-0500
TZNAME:CDT
DTSTART:20230312T080000
END:DAYLIGHT
BEGIN:STANDARD
TZOFFSETFROM:-0500
TZOFFSETTO:-0600
TZNAME:CST
DTSTART:20231105T070000
END:STANDARD
BEGIN:DAYLIGHT
TZOFFSETFROM:-0600
TZOFFSETTO:-0500
TZNAME:CDT
DTSTART:20240310T080000
END:DAYLIGHT
BEGIN:STANDARD
TZOFFSETFROM:-0500
TZOFFSETTO:-0600
TZNAME:CST
DTSTART:20241103T070000
END:STANDARD
BEGIN:DAYLIGHT
TZOFFSETFROM:-0600
TZOFFSETTO:-0500
TZNAME:CDT
DTSTART:20250309T080000
END:DAYLIGHT
BEGIN:STANDARD
TZOFFSETFROM:-0500
TZOFFSETTO:-0600
TZNAME:CST
DTSTART:20251102T070000
END:STANDARD
END:VTIMEZONE
BEGIN:VEVENT
DTSTART;VALUE=DATE:20240417
DTEND;VALUE=DATE:20240422
DTSTAMP:20260420T094028
CREATED:20231011T124104Z
LAST-MODIFIED:20240320T182912Z
UID:11107-1713312000-1713743999@srcha.org
SUMMARY:SRCHA April Show 2024
DESCRIPTION:SRCHA April Show\nHardy Murphy Coliseum\nApril 17-21\, 2024 \nCLICK HERE TO GO TO FORMS AND ALL SHOW INFO \nNEWS & INFO FOR THE COMING YEAR\nPlan on attending at least 5 of our events to be eligible for year-end awards.  New this year we will be giving saddles at the year-end awards banquet for the following classes.  Open Bridle\, Open Hackamore\, Open Two Rein\, Non Pro Bridle\, Youth Bridle\, Non Pro Boxing and NRCHA Box Drive Box Drive.  The Saddles along with Buckles and other great awards will be awarded during the year end awards banquet.  You must attend at least 5 of our events to be eligible.   \nDraws for all horse show classes will close noon the day before the class runs and will be posted before 5:00 pm that day as well. \nThank you Sponsors!
URL:https://srcha.org/event/srcha-april-show-2024/
LOCATION:Ardmore\, OK\, United States
END:VEVENT
END:VCALENDAR