BEGIN:VCALENDAR
VERSION:2.0
PRODID:-//Southwest Reined Cow Horse Association - ECPv6.15.20//NONSGML v1.0//EN
CALSCALE:GREGORIAN
METHOD:PUBLISH
X-ORIGINAL-URL:https://srcha.org
X-WR-CALDESC:Events for Southwest Reined Cow Horse Association
REFRESH-INTERVAL;VALUE=DURATION:PT1H
X-Robots-Tag:noindex
X-PUBLISHED-TTL:PT1H
BEGIN:VTIMEZONE
TZID:America/New_York
BEGIN:DAYLIGHT
TZOFFSETFROM:-0500
TZOFFSETTO:-0400
TZNAME:EDT
DTSTART:20250309T070000
END:DAYLIGHT
BEGIN:STANDARD
TZOFFSETFROM:-0400
TZOFFSETTO:-0500
TZNAME:EST
DTSTART:20251102T060000
END:STANDARD
BEGIN:DAYLIGHT
TZOFFSETFROM:-0500
TZOFFSETTO:-0400
TZNAME:EDT
DTSTART:20260308T070000
END:DAYLIGHT
BEGIN:STANDARD
TZOFFSETFROM:-0400
TZOFFSETTO:-0500
TZNAME:EST
DTSTART:20261101T060000
END:STANDARD
BEGIN:DAYLIGHT
TZOFFSETFROM:-0500
TZOFFSETTO:-0400
TZNAME:EDT
DTSTART:20270314T070000
END:DAYLIGHT
BEGIN:STANDARD
TZOFFSETFROM:-0400
TZOFFSETTO:-0500
TZNAME:EST
DTSTART:20271107T060000
END:STANDARD
END:VTIMEZONE
BEGIN:VEVENT
DTSTART;VALUE=DATE:20260103
DTEND;VALUE=DATE:20260106
DTSTAMP:20260421T090936
CREATED:20251223T224828Z
LAST-MODIFIED:20260103T202133Z
UID:14788-1767398400-1767657599@srcha.org
SUMMARY:Practice
DESCRIPTION:January 3-5\, 2026\nArdmore\, OK \nPractice Schedule\nHerd Saturday Draw Settle at 11;30 am \nHerd Draw Sunday \nSaturday Rein Practice \nSign up for Sunday and Monday Rein and Fence in the office \nWe have added some Steer Stopping on Sunday Evening \nClick here to SIGN UP\, DEADLINE MOVED TO December 29 \nSaturday\, Sunday\, Monday \nLunch will be provided Saturday/Sunday\, NOT Monday \nThere will not be a concession so please plan accordingly. \n  \nSaturday – Move in 7:00 am \nHerd Work in Coliseum starts Noon\, Settle 11:30 \nRein work starts 9:00 am in Arena 2 \nFence work starts 1:00 pm in Arena 2 \nRein work begins in Arena 3 at 1:30 pm \n  \nSunday \nHerd work starts 8:00 am in Coliseum \nRein work starts 8:00 am in Arena 3 \nFence work starts 8:00 am in Arena 2 \n  \nMonday \nRein work starts 8:00 am in Arena 3 \nFence work starts 8:00 am in Arena 2
URL:https://srcha.org/event/practice/
LOCATION:Hardy Murphy Coliseum\, Ardmore \, OK\, United States
END:VEVENT
END:VCALENDAR