BEGIN:VCALENDAR
VERSION:2.0
PRODID:-//Southwest Reined Cow Horse Association - ECPv6.15.20//NONSGML v1.0//EN
CALSCALE:GREGORIAN
METHOD:PUBLISH
X-WR-CALNAME:Southwest Reined Cow Horse Association
X-ORIGINAL-URL:https://srcha.org
X-WR-CALDESC:Events for Southwest Reined Cow Horse Association
REFRESH-INTERVAL;VALUE=DURATION:PT1H
X-Robots-Tag:noindex
X-PUBLISHED-TTL:PT1H
BEGIN:VTIMEZONE
TZID:America/Chicago
BEGIN:DAYLIGHT
TZOFFSETFROM:-0600
TZOFFSETTO:-0500
TZNAME:CDT
DTSTART:20210314T080000
END:DAYLIGHT
BEGIN:STANDARD
TZOFFSETFROM:-0500
TZOFFSETTO:-0600
TZNAME:CST
DTSTART:20211107T070000
END:STANDARD
BEGIN:DAYLIGHT
TZOFFSETFROM:-0600
TZOFFSETTO:-0500
TZNAME:CDT
DTSTART:20220313T080000
END:DAYLIGHT
BEGIN:STANDARD
TZOFFSETFROM:-0500
TZOFFSETTO:-0600
TZNAME:CST
DTSTART:20221106T070000
END:STANDARD
BEGIN:DAYLIGHT
TZOFFSETFROM:-0600
TZOFFSETTO:-0500
TZNAME:CDT
DTSTART:20230312T080000
END:DAYLIGHT
BEGIN:STANDARD
TZOFFSETFROM:-0500
TZOFFSETTO:-0600
TZNAME:CST
DTSTART:20231105T070000
END:STANDARD
END:VTIMEZONE
BEGIN:VEVENT
DTSTART;TZID=America/Chicago:20220108T173000
DTEND;TZID=America/Chicago:20220108T213000
DTSTAMP:20260420T133017
CREATED:20181031T180835Z
LAST-MODIFIED:20211223T152818Z
UID:4516-1641663000-1641677400@srcha.org
SUMMARY:2021 Year End Awards Banquet & Meeting
DESCRIPTION:JANUARY 8th\, 2022 Hardy Murphy Coliseum\, Ardmore\, OK \nBoard meeting will be prior to the banquet.  1:00 pm \n  \nJoin us for our annual year end award banquet.\nSnacks at 5:30\, dinner at 6:30 pm.  Email if you plan to attend with your name and number of guests or send check to SRCHA\, 11587 Hunt Lane\, Guthrie\, OK  73044 \nDEADLINE TO RESERVE TICKETS December 31st. \nentry@srcha.org        or\nglenz@lenzenterprises.com \n405-818-7556\nglenz@lenzenterprises.com
URL:https://srcha.org/event/2019-year-end-awards-banquet-meeting/
LOCATION:Hardy Murphy Coliseum\, Ardmore \, OK\, United States
CATEGORIES:Shows
ORGANIZER;CN="Gay Lenz":MAILTO:glenz@lenzenterprises.com
END:VEVENT
END:VCALENDAR