BEGIN:VCALENDAR
VERSION:2.0
PRODID:-//Southwest Reined Cow Horse Association - ECPv6.15.20//NONSGML v1.0//EN
CALSCALE:GREGORIAN
METHOD:PUBLISH
X-ORIGINAL-URL:https://srcha.org
X-WR-CALDESC:Events for Southwest Reined Cow Horse Association
REFRESH-INTERVAL;VALUE=DURATION:PT1H
X-Robots-Tag:noindex
X-PUBLISHED-TTL:PT1H
BEGIN:VTIMEZONE
TZID:America/Chicago
BEGIN:DAYLIGHT
TZOFFSETFROM:-0600
TZOFFSETTO:-0500
TZNAME:CDT
DTSTART:20210314T080000
END:DAYLIGHT
BEGIN:STANDARD
TZOFFSETFROM:-0500
TZOFFSETTO:-0600
TZNAME:CST
DTSTART:20211107T070000
END:STANDARD
BEGIN:DAYLIGHT
TZOFFSETFROM:-0600
TZOFFSETTO:-0500
TZNAME:CDT
DTSTART:20220313T080000
END:DAYLIGHT
BEGIN:STANDARD
TZOFFSETFROM:-0500
TZOFFSETTO:-0600
TZNAME:CST
DTSTART:20221106T070000
END:STANDARD
BEGIN:DAYLIGHT
TZOFFSETFROM:-0600
TZOFFSETTO:-0500
TZNAME:CDT
DTSTART:20230312T080000
END:DAYLIGHT
BEGIN:STANDARD
TZOFFSETFROM:-0500
TZOFFSETTO:-0600
TZNAME:CST
DTSTART:20231105T070000
END:STANDARD
END:VTIMEZONE
BEGIN:VEVENT
DTSTART;VALUE=DATE:20220808
DTEND;VALUE=DATE:20220816
DTSTAMP:20260420T183240
CREATED:20181031T173404Z
LAST-MODIFIED:20220606T154140Z
UID:4496-1659916800-1660607999@srcha.org
SUMMARY:2022 SRCHA Pre-Futurity & Horse Show
DESCRIPTION:2022 Dates  August 8-15 – Fort Worth\, TX\nMore Information at a later date \n2 NRCHA Events\nFuturity\, Derby\, Spectaculars \nVENDOR INFORMATION\nVendor Form \nCOOL News for the Intermediate Non Pro Boxing (Formerly 5K) and the Limited Non Pro Boxing (Formerly the 1K)\nThe first 80 horses entered in either class will receive $25.00 off of their cattle fee.  Also\neach class will receive $500 in prizes.  Thank you to Reo Pritchard Insurance for sponsoring these\nclasses.   For your insurance needs call Reo 817-614-4046. \nWill Rogers Memorial Center\nFt. Worth\, TX \n  \n  \n  \n 
URL:https://srcha.org/event/2019-srcha-pre-futurity-horse-show/
LOCATION:John Justin Arena\, Ft. Worth\, TX\, United States
CATEGORIES:Shows
ORGANIZER;CN="Gay Lenz":MAILTO:glenz@lenzenterprises.com
END:VEVENT
END:VCALENDAR