BEGIN:VCALENDAR
VERSION:2.0
PRODID:-//Southwest Reined Cow Horse Association - ECPv6.15.20//NONSGML v1.0//EN
CALSCALE:GREGORIAN
METHOD:PUBLISH
X-ORIGINAL-URL:https://srcha.org
X-WR-CALDESC:Events for Southwest Reined Cow Horse Association
REFRESH-INTERVAL;VALUE=DURATION:PT1H
X-Robots-Tag:noindex
X-PUBLISHED-TTL:PT1H
BEGIN:VTIMEZONE
TZID:America/Chicago
BEGIN:DAYLIGHT
TZOFFSETFROM:-0600
TZOFFSETTO:-0500
TZNAME:CDT
DTSTART:20230312T080000
END:DAYLIGHT
BEGIN:STANDARD
TZOFFSETFROM:-0500
TZOFFSETTO:-0600
TZNAME:CST
DTSTART:20231105T070000
END:STANDARD
BEGIN:DAYLIGHT
TZOFFSETFROM:-0600
TZOFFSETTO:-0500
TZNAME:CDT
DTSTART:20240310T080000
END:DAYLIGHT
BEGIN:STANDARD
TZOFFSETFROM:-0500
TZOFFSETTO:-0600
TZNAME:CST
DTSTART:20241103T070000
END:STANDARD
BEGIN:DAYLIGHT
TZOFFSETFROM:-0600
TZOFFSETTO:-0500
TZNAME:CDT
DTSTART:20250309T080000
END:DAYLIGHT
BEGIN:STANDARD
TZOFFSETFROM:-0500
TZOFFSETTO:-0600
TZNAME:CST
DTSTART:20251102T070000
END:STANDARD
END:VTIMEZONE
BEGIN:VEVENT
DTSTART;VALUE=DATE:20240806
DTEND;VALUE=DATE:20240813
DTSTAMP:20260419T083948
CREATED:20221003T123056Z
LAST-MODIFIED:20231003T142924Z
UID:8407-1722902400-1723507199@srcha.org
SUMMARY:Pre Futurity and Horse Show
DESCRIPTION:2024 SRCHA Pre Futurity and Horse Show\nAugust 6-12\, 2024\nFt Worth\, TX \n  \n2 NRCHA Events \nFuturity & Derby \nBridle Spectaculars
URL:https://srcha.org/event/pre-futurity-and-horse-show/
LOCATION:John Justin Arena\, Ft. Worth\, TX\, United States
END:VEVENT
END:VCALENDAR